BEGIN:VCALENDAR
VERSION:2.0
PRODID:-//CERN//INDICO//EN
BEGIN:VEVENT
SUMMARY:[HYBRID] Quantum Computing Seminar: The Role of Symmetry in Quantu
 m Algorithms for Many-body Systems
DTSTART:20260429T110000Z
DTEND:20260429T120000Z
DTSTAMP:20260421T233900Z
UID:indico-event-392@events.it4i.cz
CONTACT:training@it4i.cz
DESCRIPTION:\nAnnotation\nUnderstanding quantum many-body systems is one o
 f the main challenges in both condensed matter physics and quantum computi
 ng. The difficulty comes from the exponential growth of the Hilbert space\
 , which quickly makes these problems hard to handle\, both classically and
  on quantum devices. Many of these systems have symmetries\, but their rol
 e in quantum algorithms is often not fully applied. As a results\, quantum
  algorithms may explore large parts of the Hilbert space that are not phys
 ically relevant.\nIn this talk\, it will be discussed how symmetries can b
 e used in a more practical way when designing quantum algorithms. Spin mod
 els will be used as examples where the role of symmetry can be clearly see
 n. In these systems\, symmetry constraints reduce the effective size of Hi
 lbert space\, increase spectral gaps\, and help the algorithms focus on th
 e physically relevant part of the problem. This leads to a more stable and
  efficient behavior of the algorithms such as variational quantum algorith
 m (VQE)\, quantum phase estimation (QPE) and its iterative version (IQPE).
 \nBenefits for the attendees\, what they will learn:\nThe seminar will pro
 vide an overview of how symmetries can be used in quantum algorithms for m
 any- body systems. Participants will gain an understanding of how symmetry
  constraints and projection techniques can improve quantum state preparati
 on\, optimisation in variational algorithms\, and the performance of phase
  estimation methods. The talk will also offer a practical perspective on h
 ow these ideas can be incorporated into existing quantum algorithms.\nLeve
 l\nBeginner - intermediate\nLanguage\nEnglish\nPrerequisites\nBasic knowle
 dge of quantum mechanics and linear algebra is helpful\, but not strictly 
 required.\n \nTutor\nIvana Miháliková is a postdoctoral researcher in t
 he Quantum Computing laboratory at the IT4Innovations National Supercomput
 er Center and is also affiliated with the Institute of Physics of the Slov
 ak Academy of Sciences and Matej Bel University. She received her Ph.D. in
  condensed matter physics from Masaryk University\, where her research foc
 used on the application of quantum computing methods in theoretical materi
 als science. During her Ph.D.\, she was awarded the Quantum Computing Fell
 owship at Los Alamos National Laboratory and participated in international
  projects and conferences. Her current research focuses on benchmarking qu
 antum computers and the preparation of thermal states.\n \nAcknowledgemen
 ts\n \n\nThis course was supported by the Ministry of Education\, Youth a
 nd Sports of the Czech Republic through the e-INFRA CZ (ID:90254).\n \n 
 \nAll presentations and educational materials of this course are provided 
 under the Creative Commons Attribution-ShareAlike 4.0 International (CC BY
 -SA 4.0) license.\n\nhttps://events.it4i.cz/event/392/
LOCATION:IT4Innovations (ONLINE and onsite)
URL:https://events.it4i.cz/event/392/
END:VEVENT
END:VCALENDAR
